BEGIN:VCALENDAR
VERSION:2.0
PRODID:-//Sociedad Geográfica Española - ECPv6.10.3//NONSGML v1.0//EN
CALSCALE:GREGORIAN
METHOD:PUBLISH
X-ORIGINAL-URL:https://old.sge.org
X-WR-CALDESC:Eventos para Sociedad Geográfica Española
REFRESH-INTERVAL;VALUE=DURATION:PT1H
X-Robots-Tag:noindex
X-PUBLISHED-TTL:PT1H
BEGIN:VTIMEZONE
TZID:Europe/Madrid
BEGIN:DAYLIGHT
TZOFFSETFROM:+0100
TZOFFSETTO:+0200
TZNAME:CEST
DTSTART:20080330T010000
END:DAYLIGHT
BEGIN:STANDARD
TZOFFSETFROM:+0200
TZOFFSETTO:+0100
TZNAME:CET
DTSTART:20081026T010000
END:STANDARD
END:VTIMEZONE
BEGIN:VEVENT
DTSTART;VALUE=DATE:20080126
DTEND;VALUE=DATE:20080127
DTSTAMP:20260425T163917
CREATED:20160601T150555Z
LAST-MODIFIED:20160601T150555Z
UID:7021-1201305600-1201391999@old.sge.org
SUMMARY:Ascenso invernal al Ocejón
DESCRIPTION:Ruta de dificultad alta\, especialmente pensada para nuestros socios más montañeros\, acompañados por Pedro Nicolás\, geógrafo\, alpinista y miembro de la Junta Directiva de la SGE. La ruta partirá de Valverde de los Arroyos y llevará hasta Majalrayo. El trazado permitirá ver de lejos la cascada de Despeñalagua\, entrando en el valle colgado norte\, con abundante gayuba y con hermosas pedreras periglaciares. Tra llegar a la cima\, una de las más altivas y con mejores vistas de Ayllón\, se desciende parcialmente por la misma ruta para desviarse al oeste y descender por un buen camino a través de un robledal hasta la localidad de Majaelrayo.\nEs imprescindible llevar equipo invernal:buenas botas\, polainas o guetres para la nieve\, bastones\, abrigo\, guantes\, gafas\, etc. \nMás información:\nSábado 26 de enero de 2008\nDesnivel: 800 m. Distancia: 11\,5 km. Duración: 6 h\nDificultad: Alta; Plazas:35. Comida: tipo pic-nic\nPrecio: 30\,00 € socios / 37\,50 € no socios\nIncluye: Traslados en autobús\, guía especializado\, mapa del recorrido y seguro de viaje.\nInscripciones a partir del 2 de enero de 2008.
URL:https://old.sge.org/evento/ascenso-invernal-al-ocejon/
CATEGORIES:Senderismo
ORGANIZER;CN="SGE":MAILTO:sge@sge.org
END:VEVENT
END:VCALENDAR