BEGIN:VCALENDAR
VERSION:2.0
PRODID:-//Sociedad Geográfica Española - ECPv6.10.3//NONSGML v1.0//EN
CALSCALE:GREGORIAN
METHOD:PUBLISH
X-ORIGINAL-URL:https://old.sge.org
X-WR-CALDESC:Eventos para Sociedad Geográfica Española
REFRESH-INTERVAL;VALUE=DURATION:PT1H
X-Robots-Tag:noindex
X-PUBLISHED-TTL:PT1H
BEGIN:VTIMEZONE
TZID:Europe/Madrid
BEGIN:DAYLIGHT
TZOFFSETFROM:+0100
TZOFFSETTO:+0200
TZNAME:CEST
DTSTART:20100328T010000
END:DAYLIGHT
BEGIN:STANDARD
TZOFFSETFROM:+0200
TZOFFSETTO:+0100
TZNAME:CET
DTSTART:20101031T010000
END:STANDARD
END:VTIMEZONE
BEGIN:VEVENT
DTSTART;TZID=Europe/Madrid:20100629T190000
DTEND;TZID=Europe/Madrid:20100629T210000
DTSTAMP:20260420T032930
CREATED:20160601T162621Z
LAST-MODIFIED:20160601T162621Z
UID:7114-1277838000-1277845200@old.sge.org
SUMMARY:Presentación de “Regreso a Galápagos. Mi viaje con Darwin”
DESCRIPTION:Jordi Serrallonga\, miembro de la SGE\, presenta el libro “Regreso a Galápagos. Mi viaje con Darwin”. Las Islas Galápagos son el sueño de todo viajero apasionado por la Historia Natural. Tortugas gigantes\, iguanas marinas\, isla Pinzón\, lava y volcanes\, idílicas playas de arenas blancas… acompañan al autor en su apasionante viaje tras los pasos de Darwin. \nMás información: \n29 de junio de 2010. 19:00 h.\nMuseo de Ciencias Naturales\nc/ José Abascal 2. Madrid.\nACCESO LIBRE
URL:https://old.sge.org/evento/presentacion-de-regreso-a-galapagos-mi-viaje-con-darwin/
LOCATION:Museo Nacional de Ciencias Naturales\, José Gutiérrez Abascal 2\, Madrid\, España
CATEGORIES:Presentaciones
ATTACH;FMTTYPE=image/jpeg:https://old.sge.org/wp-content/uploads/2016/06/96edc316ce.jpg
END:VEVENT
END:VCALENDAR