BEGIN:VCALENDAR
VERSION:2.0
PRODID:-//Sociedad Geográfica Española - ECPv6.10.3//NONSGML v1.0//EN
CALSCALE:GREGORIAN
METHOD:PUBLISH
X-ORIGINAL-URL:https://old.sge.org
X-WR-CALDESC:Eventos para Sociedad Geográfica Española
REFRESH-INTERVAL;VALUE=DURATION:PT1H
X-Robots-Tag:noindex
X-PUBLISHED-TTL:PT1H
BEGIN:VTIMEZONE
TZID:Europe/Madrid
BEGIN:DAYLIGHT
TZOFFSETFROM:+0100
TZOFFSETTO:+0200
TZNAME:CEST
DTSTART:20100328T010000
END:DAYLIGHT
BEGIN:STANDARD
TZOFFSETFROM:+0200
TZOFFSETTO:+0100
TZNAME:CET
DTSTART:20101031T010000
END:STANDARD
END:VTIMEZONE
BEGIN:VEVENT
DTSTART;TZID=Europe/Madrid:20100610T193000
DTEND;TZID=Europe/Madrid:20100610T220000
DTSTAMP:20260420T045404
CREATED:20160601T162712Z
LAST-MODIFIED:20160601T162712Z
UID:7116-1276198200-1276207200@old.sge.org
SUMMARY:Presentación de la SGE en Bilbao
DESCRIPTION:El próximo 10 de junio de 2010 la Sociedad Bilbaína acoge a una delegación de la SGE para presentar a sus miembros nuestra institución. \nTras la conferencia de Martín Gabaráin\, miembro de la SGE y de la Sociedad Bilbaína se presentará y explicarán las actividades\, viajes\, conferencias\, publicaciones\, cursos\, etc. que la SGE desarrolla a favor de la divulgación geográfica y viajera. \nMás información: \n10 de junio de 2010. 19:30 h.\nSociedad Bilbaína\nC/ Navarra 1. Bilbao.\nACCESO LIBRE
URL:https://old.sge.org/evento/presentacion-de-la-sge-en-bilbao/
LOCATION:Sociedad Bilbaína\, C/ Navarra 1\, Bilbao\, España
CATEGORIES:Presentaciones
ATTACH;FMTTYPE=image/jpeg:https://old.sge.org/wp-content/uploads/2016/06/5fbdc76809.jpg
END:VEVENT
END:VCALENDAR