BEGIN:VCALENDAR
VERSION:2.0
PRODID:-//Sociedad Geográfica Española - ECPv6.10.3//NONSGML v1.0//EN
CALSCALE:GREGORIAN
METHOD:PUBLISH
X-WR-CALNAME:Sociedad Geográfica Española
X-ORIGINAL-URL:https://old.sge.org
X-WR-CALDESC:Eventos para Sociedad Geográfica Española
REFRESH-INTERVAL;VALUE=DURATION:PT1H
X-Robots-Tag:noindex
X-PUBLISHED-TTL:PT1H
BEGIN:VTIMEZONE
TZID:Europe/Madrid
BEGIN:DAYLIGHT
TZOFFSETFROM:+0100
TZOFFSETTO:+0200
TZNAME:CEST
DTSTART:20100328T010000
END:DAYLIGHT
BEGIN:STANDARD
TZOFFSETFROM:+0200
TZOFFSETTO:+0100
TZNAME:CET
DTSTART:20101031T010000
END:STANDARD
END:VTIMEZONE
BEGIN:VEVENT
DTSTART;TZID=Europe/Madrid:20100422T193000
DTEND;TZID=Europe/Madrid:20100422T210000
DTSTAMP:20260420T065645
CREATED:20160601T162957Z
LAST-MODIFIED:20160601T162957Z
UID:7121-1271964600-1271970000@old.sge.org
SUMMARY:Día de la Tierra. Amazonas\, el último El Dorado. En el Museo de América
DESCRIPTION:El Amazonas es el último gran pulmón de la Tierra. Con ocasión del Día de la Tierra\, en el Museo de América se debatirá el futuro del Amazonas\, en torno al libro “Buscando Eldorado. Viaje al traspasado corazón del mundo”. Participarán: Alberto Vázquez Figueroa\, escritor;Miguel Ángel Soto\, Director de Bosques de Greenpeace; Juan Carlos y Francisco de la Cal\, periodistas y autores del libro. \nMás información: \nJueves\, 22 de abril de 2010. 19:30 h.\nMuseo de América. Avda. Reyes Católicos 6. Madrid.\nACCESO LIBRE
URL:https://old.sge.org/evento/dia-de-la-tierra-amazonas-el-ultimo-el-dorado-en-el-museo-de-america/
LOCATION:Museo de América\, Avda. Reyes Católicos 6\, Madrid\, España
CATEGORIES:Presentaciones
ATTACH;FMTTYPE=image/jpeg:https://old.sge.org/wp-content/uploads/2016/06/26a81224dd.jpg
END:VEVENT
BEGIN:VEVENT
DTSTART;TZID=Europe/Madrid:20100423T201500
DTEND;TZID=Europe/Madrid:20100423T210000
DTSTAMP:20260420T065645
CREATED:20160601T163040Z
LAST-MODIFIED:20160601T163040Z
UID:7124-1272053700-1272056400@old.sge.org
SUMMARY:Noche de los Libros de Deviaje y la SGE
DESCRIPTION:Aprovechando la celebración de la Noche de los Libros en Madrid\, la librería Deviaje y la SGE presentarán el libro “La aventura del Muni” de Miguel Gutiérrez Garitano\, siguiendo los pasos de uno de nuestros grandes viajeros\, Manuel de Iradier\, explorador de Guinea. \nMás información: \nViernes\, 23 de abril de 2010. 20:15 h.\nLibrería Deviaje. c/Serrano 41. Madrid\nACCESO LIBRE
URL:https://old.sge.org/evento/noche-de-los-libros-de-deviaje-y-la-sge/
CATEGORIES:Presentaciones
ATTACH;FMTTYPE=image/jpeg:https://old.sge.org/wp-content/uploads/2016/06/0801f78ed3.jpg
END:VEVENT
END:VCALENDAR