BEGIN:VCALENDAR
VERSION:2.0
PRODID:-//Sociedad Geográfica Española - ECPv6.10.3//NONSGML v1.0//EN
CALSCALE:GREGORIAN
METHOD:PUBLISH
X-ORIGINAL-URL:https://old.sge.org
X-WR-CALDESC:Eventos para Sociedad Geográfica Española
REFRESH-INTERVAL;VALUE=DURATION:PT1H
X-Robots-Tag:noindex
X-PUBLISHED-TTL:PT1H
BEGIN:VTIMEZONE
TZID:Europe/Madrid
BEGIN:DAYLIGHT
TZOFFSETFROM:+0100
TZOFFSETTO:+0200
TZNAME:CEST
DTSTART:20100328T010000
END:DAYLIGHT
BEGIN:STANDARD
TZOFFSETFROM:+0200
TZOFFSETTO:+0100
TZNAME:CET
DTSTART:20101031T010000
END:STANDARD
END:VTIMEZONE
BEGIN:VEVENT
DTSTART;TZID=Europe/Madrid:20100211T201500
DTEND;TZID=Europe/Madrid:20100211T220000
DTSTAMP:20260420T101424
CREATED:20160601T163233Z
LAST-MODIFIED:20160601T163233Z
UID:7128-1265919300-1265925600@old.sge.org
SUMMARY:Presentación de “¡Te odio Marco Polo! Un viaje tras las huellas de la Ruta de la Seda”
DESCRIPTION:Pablo Strubell\, miembro de la SGE presenta en la librería Deviaje de Madrid este libro que es el relato de un viaje en solitario a lo largo de la mayor ruta terrestre del mundo. \nEmpezando en Estambul\, el autor se lanzó a cruzar Asia Central sin mucho más equipaje que un pasaporte en regla\, carretes de fotos y una mochila. Durante cinco meses y un día recorrió más de doce mil kilómetros hasta el corazón de China. \nMás información \nJueves\, 11 de febrero de 2010. 20:15 h. \nLibrería Deviaje. c/Serrano 41. Madrid \nViernes 19 de marzo de 2010-01-27 Librería Ulyssus. Girona \nJueves\, 25 de marzo de 2010-01-27 Librería Patagonia. Valencia
URL:https://old.sge.org/evento/presentacion-de-te-odio-marco-polo-un-viaje-tras-las-huellas-de-la-ruta-de-la-seda/
LOCATION:Librería Deviaje\, Serrano 41\, Madrid\, España
CATEGORIES:Presentaciones
ATTACH;FMTTYPE=image/jpeg:https://old.sge.org/wp-content/uploads/2016/06/ac82fc0aa9.jpg
END:VEVENT
END:VCALENDAR