BEGIN:VCALENDAR
VERSION:2.0
PRODID:-//Sociedad Geográfica Española - ECPv6.10.3//NONSGML v1.0//EN
CALSCALE:GREGORIAN
METHOD:PUBLISH
X-WR-CALNAME:Sociedad Geográfica Española
X-ORIGINAL-URL:https://old.sge.org
X-WR-CALDESC:Eventos para Sociedad Geográfica Española
REFRESH-INTERVAL;VALUE=DURATION:PT1H
X-Robots-Tag:noindex
X-PUBLISHED-TTL:PT1H
BEGIN:VTIMEZONE
TZID:Europe/Madrid
BEGIN:DAYLIGHT
TZOFFSETFROM:+0100
TZOFFSETTO:+0200
TZNAME:CEST
DTSTART:20100328T010000
END:DAYLIGHT
BEGIN:STANDARD
TZOFFSETFROM:+0200
TZOFFSETTO:+0100
TZNAME:CET
DTSTART:20101031T010000
END:STANDARD
END:VTIMEZONE
BEGIN:VEVENT
DTSTART;TZID=Europe/Madrid:20100113T190000
DTEND;TZID=Europe/Madrid:20100113T210000
DTSTAMP:20260422T104415
CREATED:20160601T163332Z
LAST-MODIFIED:20160601T163332Z
UID:7130-1263409200-1263416400@old.sge.org
SUMMARY:Presentación de “Naufragio\, la historia olvidada del vapor Príncipe de Asturias”
DESCRIPTION:El periodista y miembro de la SGE\, Francisco García Novell presenta el libro “Naufragio”\, la historia del “Príncipe de Asturias” un barco que naufragó a las seis de la mañana del domingo 5 de marzo de 1916 frente a las costas de Brasil. \nEl autor se topó con la historia del Príncipe de Asturias cuando preparaba un documental sobre otro barco y le dedicó dos años de investigación en archivos y hemerotecas. El autor presenta ahora para los miembros de la SGE “Naufragio”\, tanto en Madrid como en Barcelona. \nMás información \nMadrid: 13 de enero. 19:00 h. \nSalón de Actos. Museo Naval \nc/Montalbán 2. Madrid \nEl escritor y periodista Luis del Val presentará el libro junto con el autor. \nImprescindible presentar DNI a la entrada. \nACCESO LIBRE HASTA COMPLETAR AFORO \nBarcelona: 19 de enero. 19:00 h. \nMuseu Marítim. \nAvda. de les Drassanes s/n. Barcelona \nLa periodista Rosa Mª Calaf presentará el libro junto con el autor. \nACCESO LIBRE HASTA COMPLETAR AFORO
URL:https://old.sge.org/evento/presentacion-de-naufragio-la-historia-olvidada-del-vapor-principe-de-asturias/
LOCATION:Museo Naval de Madrid
CATEGORIES:Presentaciones
ATTACH;FMTTYPE=image/jpeg:https://old.sge.org/wp-content/uploads/2016/06/232e352ad4.jpg
END:VEVENT
BEGIN:VEVENT
DTSTART;TZID=Europe/Madrid:20100128T201500
DTEND;TZID=Europe/Madrid:20100128T220000
DTSTAMP:20260422T104415
CREATED:20160601T163125Z
LAST-MODIFIED:20160601T163125Z
UID:7126-1264709700-1264716000@old.sge.org
SUMMARY:Presentación del “Atlas de los exploradores españoles” en la librería Deviaje
DESCRIPTION:“¡Por fin! Ya iba siendo hora de que todos supiéramos quiénes han sido en el transcurso de los siglos nuestros más grandes exploradores\, y este atlas nos desvela el enigma…” \nDe este modo comienzan las palabras que Santos desde la librería Deviaje dedica al “Atlas de los exploradores” de la SGE. La SGE\, geoPlaneta y Deviaje organizan una nueva presentación del Atlas de los exploradores españoles en la librería Deviaje de Madrid para\, entre amigos\, poder acercarnos un poquito más a la historia de nuestras exploraciones y descubrimientos. \nEn la presentación participarán Diego Azqueta\, Coordinador\, Olga Vilanova\, Directora editorial\, Manuel Lucena\, Director científico y Luis Conde-Salazar\, autor de los textos. \nMás información \nJueves\, 28 de enero de 2010. 20:15 h. \nLibrería Deviaje. c/Serrano 41. Madrid \nACCESO LIBRE HASTA COMPLETAR AFORO
URL:https://old.sge.org/evento/presentacion-del-atlas-de-los-exploradores-espanoles-en-la-libreria-deviaje/
LOCATION:Librería Deviaje\, Serrano 41\, Madrid\, España
CATEGORIES:Presentaciones
ATTACH;FMTTYPE=image/jpeg:https://old.sge.org/wp-content/uploads/2016/06/8989ae8039.jpg
END:VEVENT
END:VCALENDAR