BEGIN:VCALENDAR
VERSION:2.0
PRODID:-//Sociedad Geográfica Española - ECPv6.10.3//NONSGML v1.0//EN
CALSCALE:GREGORIAN
METHOD:PUBLISH
X-WR-CALNAME:Sociedad Geográfica Española
X-ORIGINAL-URL:https://old.sge.org
X-WR-CALDESC:Eventos para Sociedad Geográfica Española
REFRESH-INTERVAL;VALUE=DURATION:PT1H
X-Robots-Tag:noindex
X-PUBLISHED-TTL:PT1H

BEGIN:VEVENT
DTSTART;TZID=Europe/Madrid:20260420T080041
DTEND;TZID=Europe/Madrid:20240521T110100
DTSTAMP:20260420T080041
CREATED:20240222T144155Z
LAST-MODIFIED:20240521T110212Z
UID:33751-0-1716289260@old.sge.org
SUMMARY:ALASKA\, LA LLAMADA DE LA NATURALEZA
DESCRIPTION:Diversidad geográfica y conexión con la Naturaleza\, en los confines del mundo habitado de Norteamérica\nAlaska es una península singular\, ubicada entre los océanos Ártico y Pacífico y en el límite noroccidental de Norteamérica que ofrece paisajes extremos. \nEs una tierra de extensas montañas\, glaciares\, bosques y tundra donde el frío y el hielo son las constantes que dirigen los paisajes y condicionan la presencia humana. Aúna el Ártico con su naturaleza salvaje -fauna\, montañas glaciadas\, extensos valles\, turberas\, tundra y taiga- y el desarrollo humano en ciudades y asentamientos -mineros\, militares\, pesqueros- esparcidos por su territorio y que en ocasiones han dejado una profunda huella. \nDe sur a norte se pueden admirar paisajes costeros modelados por el hielo\, con fiordos\, montañas y frentes glaciares sobre el mar que nos llevan a las montañas continentales\, los grandes espacios con las cumbres más altas y donde de nuevo alternan bosques y praderas con unos glaciares que muestran los rastros de su reciente retroceso sin perder la belleza del ártico. Más al norte\, los grandes ríos y sus llanuras dominan el paisaje\, caracterizado por la presencia de amplios bosques y el permafrost. Son extensas masas de coníferas que colonizan los sustratos helados. \n  \n\n 
URL:https://old.sge.org/evento/alaska-la-llamada-de-la-naturaleza/
CATEGORIES:Viajes
ATTACH;FMTTYPE=image/jpeg:https://old.sge.org/wp-content/uploads/2024/02/barth-bailey-DeNUFD4XcNA-unsplash.jpg
ORGANIZER;CN="Sociedad Geogr%C3%A1fica Espa%C3%B1ola":MAILTO:sge@sge.org
END:VEVENT
BEGIN:VEVENT
DTSTART;TZID=Europe/Madrid:20200222T100000
DTEND;TZID=Europe/Madrid:20200222T133000
DTSTAMP:20260420T080041
CREATED:20190221T230010Z
LAST-MODIFIED:20200205T111615Z
UID:18081-1582365600-1582378200@old.sge.org
SUMMARY:Visita al Campo del Moro\, la Casa de Campo y la Huerta de la Partida con Pilar Lacasta
DESCRIPTION: El programa de jardines que dirige la geógrafa Pilar Lacasta comienza este 2020 con tres grandes jardines: El Campo del Moro\, la Casa de Campo y la Huerta de la Partida. \nEn la margen derecha del río Manzanares se encuentra la Huerta de la Partida\, un espacio natural de 38.000 metros cuadrados\, cercano a la Casa de Campo. Enmarcado en el entorno de Madrid Río\, a pocos metros del Puente del Rey\, sus orígenes se remontan al siglo XVI cuando era la huerta que surtía de hortalizas al palacio de la familia de los Vargas\, una de las más influyentes de la ciudad. En esta zona se hicieron construir su casa de campo\, que después pasaría a formar parte de la corona. \nLas 1535\,52 hectáreas de la Casa de Campo convierten este espacio natural en el mayor parque público de Madrid. Su historia comenzó con la decisión de Felipe II de trasladar la Corte a Madrid y residir en ella: formó una finca que unía el Palacio con el cazadero de El Pardo y alrededor de este núcleo se fueron agregando fincas de labor y campos comprados a los colindantes. Con la llegada de la Segunda República (1931) el espacio fue cedido al pueblo de Madrid. \nFinalmente\, en los terrenos del Campo del Moro\, espacio impulsado en el siglo XIX por la Reina María Cristina\, nos encontramos con un fabuloso jardín de estilo inglés decimonónico siguiendo el concepto romántico de la naturaleza. \nPilar Lacasta es Profesora Titular de Geografía en la Universidad Autónoma de Madrid. Centra su investigación en la gran propiedad territorial y el paisaje desde hace muchos años\, fundamentalmente en la Comunidad de Madrid\, habiendo publicado varios libros y artículos para revistas científicas. \n\n\nEn la actualidad está jubilada\, aunque sigue dando clase en la Universidad de Mayores de la Universidad Autónoma de Madrid impartiendo un curso de Paisaje de la Comunidad de Madrid y otro sobre Naturaleza y Jardín. Hasta hace poco impartía clase también en el curso “Madrid Villa y Tierra: Rutas Histórico-Culturales” dentro de los programas de “Enseñanzas Propias de la UAM”. Colabora con la Universidad Carlos III haciendo Excursiones Geográficas por la Comunidad de Madrid y con la Universidad Autónoma de Madrid y la Sociedad Geográfica Española haciendo recorridos por Parques y Jardines. Tampoco ha abandonado su actividad investigadora tanto sobre Paisaje como sobre Jardines. \n\n\n\n\nMás información en sge@sge.org  o en el teléfono 91 528 38 47.
URL:https://old.sge.org/evento/campo-moro-casa-campo-huerta-partida-2020/
CATEGORIES:Actividades,Senderismo
ATTACH;FMTTYPE=image/jpeg:https://old.sge.org/wp-content/uploads/2019/02/Sin-título.jpg
END:VEVENT
END:VCALENDAR