BEGIN:VCALENDAR
VERSION:2.0
PRODID:-//Sociedad Geográfica Española - ECPv6.10.3//NONSGML v1.0//EN
CALSCALE:GREGORIAN
METHOD:PUBLISH
X-ORIGINAL-URL:https://old.sge.org
X-WR-CALDESC:Eventos para Sociedad Geográfica Española
REFRESH-INTERVAL;VALUE=DURATION:PT1H
X-Robots-Tag:noindex
X-PUBLISHED-TTL:PT1H

BEGIN:VEVENT
DTSTART;TZID=Europe/Madrid:20260422T171115
DTEND;TZID=Europe/Madrid:20240521T110100
DTSTAMP:20260422T171115
CREATED:20240222T144155Z
LAST-MODIFIED:20240521T110212Z
UID:33751-0-1716289260@old.sge.org
SUMMARY:ALASKA\, LA LLAMADA DE LA NATURALEZA
DESCRIPTION:Diversidad geográfica y conexión con la Naturaleza\, en los confines del mundo habitado de Norteamérica\nAlaska es una península singular\, ubicada entre los océanos Ártico y Pacífico y en el límite noroccidental de Norteamérica que ofrece paisajes extremos. \nEs una tierra de extensas montañas\, glaciares\, bosques y tundra donde el frío y el hielo son las constantes que dirigen los paisajes y condicionan la presencia humana. Aúna el Ártico con su naturaleza salvaje -fauna\, montañas glaciadas\, extensos valles\, turberas\, tundra y taiga- y el desarrollo humano en ciudades y asentamientos -mineros\, militares\, pesqueros- esparcidos por su territorio y que en ocasiones han dejado una profunda huella. \nDe sur a norte se pueden admirar paisajes costeros modelados por el hielo\, con fiordos\, montañas y frentes glaciares sobre el mar que nos llevan a las montañas continentales\, los grandes espacios con las cumbres más altas y donde de nuevo alternan bosques y praderas con unos glaciares que muestran los rastros de su reciente retroceso sin perder la belleza del ártico. Más al norte\, los grandes ríos y sus llanuras dominan el paisaje\, caracterizado por la presencia de amplios bosques y el permafrost. Son extensas masas de coníferas que colonizan los sustratos helados. \n  \n\n 
URL:https://old.sge.org/evento/alaska-la-llamada-de-la-naturaleza/
CATEGORIES:Viajes
ATTACH;FMTTYPE=image/jpeg:https://old.sge.org/wp-content/uploads/2024/02/barth-bailey-DeNUFD4XcNA-unsplash.jpg
ORGANIZER;CN="Sociedad Geogr%C3%A1fica Espa%C3%B1ola":MAILTO:sge@sge.org
END:VEVENT
BEGIN:VEVENT
DTSTART;TZID=Europe/Madrid:20191007T080000
DTEND;TZID=Europe/Madrid:20191023T170000
DTSTAMP:20260422T171115
CREATED:20190704T093504Z
LAST-MODIFIED:20190704T093816Z
UID:17288-1570435200-1571850000@old.sge.org
SUMMARY:NUEVA ZELANDA: LAS ISLAS DE LA GEOGRAFÍA SOÑADA
DESCRIPTION:La Sociedad Geográfica Española y Utópica proponen para 2019 un viaje a Nueva Zelanda\, las islas de la geografía soñada\, donde se visitarán las costas de la isla norte\, de arenas negras y ricas en fauna\, y las manifestaciones geotermales de la caldera de Rotorua. Y en la isla sur el lago Tekapo\, el Monte Cook (3.724 m.) y sus glaciares que llegan a descender hasta los 300 m. sobre el nivel del mar (un hecho excepcional a estas latitudes)\, y el Parque Nacional de los Fiordland\, donde destaca el fiordo de Milford Sound\, con montañas que se alzan casi 1700 m. sobre el agua\, entre otros lugares de gran interés geográfico. \nRAÚL MARTÍN \nDoctor en Geografía y especialista en paisajes fríos y de montaña. Ha impartido clases de ciencias medioambientales y de la tierra en universidades americanas durante casi diez años y actualmente es profesor de la Universidad Autónoma de Madrid. Es experto en glaciarismo y ambientes árticos y subárticos – a los que ha viajado en más de quince ocasiones. Es montañero y alpinista\, con actividades en numerosas montañas del mundo.\n\n\n\nOrganización técnica: Utópica Travel\n\n\n\n\n  DESCARGAR EL PROGRAMA
URL:https://old.sge.org/evento/nueva-zelanda-las-islas-de-la-geografia-sonada/
CATEGORIES:Viajes
ATTACH;FMTTYPE=image/jpeg:https://old.sge.org/wp-content/uploads/2018/12/new-zealand-3021090.jpg
END:VEVENT
BEGIN:VEVENT
DTSTART;TZID=Europe/Madrid:20191008T193000
DTEND;TZID=Europe/Madrid:20191008T210000
DTSTAMP:20260422T171115
CREATED:20190724T102940Z
LAST-MODIFIED:20190730T065426Z
UID:17502-1570563000-1570568400@old.sge.org
SUMMARY:¿Por qué no volvimos a la luna? La historia desconocida del programa Apollo
DESCRIPTION:La aventura de la llegada a la Luna hace 50 años fue una de las grandes hazañas tecnológicas de la humanidad. Fue un acontecimiento irrepetible: ni siquiera en el futuro un eventual desembarco en Marte podrá compararse con el viaje del Apollo 11\, un viaje épico y en principio casi imposible de realizar. Desde aquella aventura ha transcurrido medio siglo. Después del Apollo\, nadie ha vuelto a la Luna. \nEl científico y divulgador Rafael Clemente\, explicará la “cara oculta” de esta odisea\, historias desconocidas y anécdotas del programa Apollo y el futuro de la conquista de nuestro satélite. \nRafael Clemente es ingeniero industrial y Master of Science y uno de los principales divulgadores de temas relacionados con la carrera espacial y la investigación del espacio. Fundador y primer director del Museu de la Ciència de Barcelona (actual CosmoCaixa). Durante más de cincuenta años ha colaborado en temas de divulgación científica con La Vanguardia\, El País y otros medios y ha publicado este año el libro “Un pequeño paso para (un) hombre. Historia desconocida de la llegada del hombre a la luna”. \nImprescindible confirmación de asistencia en: \nFundación Ramón Areces
URL:https://old.sge.org/evento/por-que-no-volvimos-a-la-luna-la-historia-desconocida-del-programa-apollo/
LOCATION:Fundación Ramón Areces\, Vitruvio 5\, Madrid\, España
CATEGORIES:Mes geográfico
ATTACH;FMTTYPE=image/jpeg:https://old.sge.org/wp-content/uploads/2019/07/7610985594_2375f72b19_o.jpg
ORGANIZER;CN="Sociedad Geogr%C3%A1fica Espa%C3%B1ola":MAILTO:sge@sge.org
END:VEVENT
END:VCALENDAR