BEGIN:VCALENDAR
VERSION:2.0
PRODID:-//Sociedad Geográfica Española - ECPv6.10.3//NONSGML v1.0//EN
CALSCALE:GREGORIAN
METHOD:PUBLISH
X-WR-CALNAME:Sociedad Geográfica Española
X-ORIGINAL-URL:https://old.sge.org
X-WR-CALDESC:Eventos para Sociedad Geográfica Española
REFRESH-INTERVAL;VALUE=DURATION:PT1H
X-Robots-Tag:noindex
X-PUBLISHED-TTL:PT1H

BEGIN:VEVENT
DTSTART;TZID=Europe/Madrid:20260423T002146
DTEND;TZID=Europe/Madrid:20240521T110100
DTSTAMP:20260423T002146
CREATED:20240222T144155Z
LAST-MODIFIED:20240521T110212Z
UID:33751-0-1716289260@old.sge.org
SUMMARY:ALASKA\, LA LLAMADA DE LA NATURALEZA
DESCRIPTION:Diversidad geográfica y conexión con la Naturaleza\, en los confines del mundo habitado de Norteamérica\nAlaska es una península singular\, ubicada entre los océanos Ártico y Pacífico y en el límite noroccidental de Norteamérica que ofrece paisajes extremos. \nEs una tierra de extensas montañas\, glaciares\, bosques y tundra donde el frío y el hielo son las constantes que dirigen los paisajes y condicionan la presencia humana. Aúna el Ártico con su naturaleza salvaje -fauna\, montañas glaciadas\, extensos valles\, turberas\, tundra y taiga- y el desarrollo humano en ciudades y asentamientos -mineros\, militares\, pesqueros- esparcidos por su territorio y que en ocasiones han dejado una profunda huella. \nDe sur a norte se pueden admirar paisajes costeros modelados por el hielo\, con fiordos\, montañas y frentes glaciares sobre el mar que nos llevan a las montañas continentales\, los grandes espacios con las cumbres más altas y donde de nuevo alternan bosques y praderas con unos glaciares que muestran los rastros de su reciente retroceso sin perder la belleza del ártico. Más al norte\, los grandes ríos y sus llanuras dominan el paisaje\, caracterizado por la presencia de amplios bosques y el permafrost. Son extensas masas de coníferas que colonizan los sustratos helados. \n  \n\n 
URL:https://old.sge.org/evento/alaska-la-llamada-de-la-naturaleza/
CATEGORIES:Viajes
ATTACH;FMTTYPE=image/jpeg:https://old.sge.org/wp-content/uploads/2024/02/barth-bailey-DeNUFD4XcNA-unsplash.jpg
ORGANIZER;CN="Sociedad Geogr%C3%A1fica Espa%C3%B1ola":MAILTO:sge@sge.org
END:VEVENT
BEGIN:VEVENT
DTSTART;TZID=Europe/Madrid:20190610T190000
DTEND;TZID=Europe/Madrid:20190610T210000
DTSTAMP:20260423T002146
CREATED:20190603T140631Z
LAST-MODIFIED:20190604T151017Z
UID:17188-1560193200-1560200400@old.sge.org
SUMMARY:657 dientes de mono
DESCRIPTION:Hace 75 años\, en lo profundo de la selva paraguaya\, un grupo de hombres\, mujeres y niños vivió una aventura real de las que en el imaginario popular decimos que ocurren solo en las películas. “657 dientes de mono” es el libro recopila todo lo que allí pasó tras un ejercicio de memoria y literatura que ha impedido que los hechos caigan en el olvido. \nY lo que ocurrió es que un grupo de recolectores de mate se enfrentó durante seis meses a la muerte entre anacondas gigantes\, jaguares salvajes y una retahíla de enfermedades propias del trópico. Y en esa lucha por la supervivencia\, que no todos consiguieron\, tuvieron por primera vez contacto con una de las tribus más temidas de América: los invisibles y caníbales guayakíes. \nEl campamento de recolectores de mate estaba capitaneado por don Isaac Álvarez\, personaje singular en su tiempo: elegante\, dadivoso\, casi visionario\, pero también firme cuando era necesario. De su mano\, este grupo de hombres\, mujeres y niños vivió una historia que nunca quisieron ni pudieron olvidar. Una de las hijas de don Isaac\, Gloria Álvarez\, quiso dejar constancia de lo sucedido en un cuaderno. \nAños después\, Alberto Corchón e Iñaki Oscoz se alían para dar forma a este relato novelado. Hechos reales para narrar una historia sorprendente que hoy\, setenta y cinco años después\, merece ser conocida. \nEn la presentación participarán: \nLola Escudero\, Secretaria General de la SGE. \nAlberto Corchón\, nace en Irún en 1938\, en plena Guerra Civil Española. Con catorce años empieza a trabajar en la oficina de Porcelanas Bidasoa\, de donde pasa al Banco Exterior de España. A los 22\, recién licenciado del ejército\, empieza a estudiar el bachiller y lo aprueba en un año y medio. En 1965 es trasladado por el banco a Asunción (Paraguay)\, donde conoce a Gloria Álvarez Valdés. Se enamoran\, se casan y tienen cuatro hijos que hoy tienen doble la nacionalidad\, paraguaya y española. En 1975 la familia al completo vuelve a Irún. Alberto se jubila en 1995 y trece años más tarde empieza a escribir su primera novela. Es esta. Es la historia de su mujer. \nIñaki Oscoz\, nace en Irún y reside en Madrid desde 2002. Redactor todoterreno\, ha transitado por el gremio periodístico y\, sobre todo\, por el publicitario. Ha ejercido también de corrector para diferentes editoriales. En su faceta escribana\, con el paso de los años\, ha conseguido alzarse como finalista en varios concursos de cuentos y microcuentos. Durante nueve años\, fue el dramaturgo de la compañía de teatro de títeres Le Guignol Orthopédique. Cumplidos los cuarenta\, y colgada la etiqueta de escritor tardío\, se embarca en la escritura a cuatro manos de una historia que considera relevante para el mundo. Llega así su primera novela. 657 dientes de mono tienen la culpa. \nDaniel Landa\, periodista y realizador de documentales. Ha dirigido y presentado varias expediciones que suman en total más de 75 países de todo el mundo. En 1999 emprendió la travesía en coche que separa su ciudad natal\, Palencia\, de Singapur\, en el Sudeste Asiático\, produciendo la serie documental “El Viaje de los Tres Océanos”. En 2003 y 2004 realizó varios viajes por Europa para el programa “Europa en el Espejo” de TVR.\nEntre el 2006 y 2008 comandó la vuelta al mundo más larga que se haya contado hasta la fecha en TV. Una travesía terrestre que incluye todas las grandes rutas del planeta\, más de 100.000 kilómetros por carretera y 51 países. En aquel viaje dirigió la serie “Un Mundo Aparte” emitida en 130 países a través de National Geographic\, en Estados Unidos por Univisión y en La 2 de TVE con notable éxito de audiencia.
URL:https://old.sge.org/evento/657-dientes-de-mono/
LOCATION:Instituto Geográfico Nacional\, General Ibáñez de Ibero 3\, Madrid\, España
CATEGORIES:Presentaciones
ATTACH;FMTTYPE=image/jpeg:https://old.sge.org/wp-content/uploads/2019/06/657-e1559570763714.jpg
ORGANIZER;CN="Sociedad Geogr%C3%A1fica Espa%C3%B1ola":MAILTO:sge@sge.org
END:VEVENT
END:VCALENDAR