BEGIN:VCALENDAR
VERSION:2.0
PRODID:-//Sociedad Geográfica Española - ECPv6.10.3//NONSGML v1.0//EN
CALSCALE:GREGORIAN
METHOD:PUBLISH
X-ORIGINAL-URL:https://old.sge.org
X-WR-CALDESC:Eventos para Sociedad Geográfica Española
REFRESH-INTERVAL;VALUE=DURATION:PT1H
X-Robots-Tag:noindex
X-PUBLISHED-TTL:PT1H

BEGIN:VEVENT
DTSTART;TZID=Europe/Madrid:20260422T225153
DTEND;TZID=Europe/Madrid:20240521T110100
DTSTAMP:20260422T225153
CREATED:20240222T144155Z
LAST-MODIFIED:20240521T110212Z
UID:33751-0-1716289260@old.sge.org
SUMMARY:ALASKA\, LA LLAMADA DE LA NATURALEZA
DESCRIPTION:Diversidad geográfica y conexión con la Naturaleza\, en los confines del mundo habitado de Norteamérica\nAlaska es una península singular\, ubicada entre los océanos Ártico y Pacífico y en el límite noroccidental de Norteamérica que ofrece paisajes extremos. \nEs una tierra de extensas montañas\, glaciares\, bosques y tundra donde el frío y el hielo son las constantes que dirigen los paisajes y condicionan la presencia humana. Aúna el Ártico con su naturaleza salvaje -fauna\, montañas glaciadas\, extensos valles\, turberas\, tundra y taiga- y el desarrollo humano en ciudades y asentamientos -mineros\, militares\, pesqueros- esparcidos por su territorio y que en ocasiones han dejado una profunda huella. \nDe sur a norte se pueden admirar paisajes costeros modelados por el hielo\, con fiordos\, montañas y frentes glaciares sobre el mar que nos llevan a las montañas continentales\, los grandes espacios con las cumbres más altas y donde de nuevo alternan bosques y praderas con unos glaciares que muestran los rastros de su reciente retroceso sin perder la belleza del ártico. Más al norte\, los grandes ríos y sus llanuras dominan el paisaje\, caracterizado por la presencia de amplios bosques y el permafrost. Son extensas masas de coníferas que colonizan los sustratos helados. \n  \n\n 
URL:https://old.sge.org/evento/alaska-la-llamada-de-la-naturaleza/
CATEGORIES:Viajes
ATTACH;FMTTYPE=image/jpeg:https://old.sge.org/wp-content/uploads/2024/02/barth-bailey-DeNUFD4XcNA-unsplash.jpg
ORGANIZER;CN="Sociedad Geogr%C3%A1fica Espa%C3%B1ola":MAILTO:sge@sge.org
END:VEVENT
BEGIN:VEVENT
DTSTART;TZID=Europe/Madrid:20190527T190000
DTEND;TZID=Europe/Madrid:20190527T210000
DTSTAMP:20260422T225153
CREATED:20190704T095755Z
LAST-MODIFIED:20190704T122721Z
UID:17308-1558983600-1558990800@old.sge.org
SUMMARY:VIAJES DE CINE: trenes y exploración en la gran pantalla. De Lawrence de Arabia a los leones de Tsavo.
DESCRIPTION:Antes de que se inventara el cine\, el tren ya era uno de sus protagonistas principales. Primero fue la ensoñación que avanzaron los románticos\, luego la esperanza de esa vida complaciente que anunciaba la revolución industrial\, y al fin\, el interés de los imperios porque las sociedades geográficas enviaran a sus exploradores como punta de lanza con el fin de descubrir\, explotar y trasladar las riquezas de las tierras ocultas\, un interés que con frecuencia venía oculto entre las columnas de humo que soltaban las locomotoras. El ferrocarril se convirtió en un icono de la nueva sociedad. El cine se ha hecho siempre eco de esta magia y nos ha llevado a través del mundo sobre raíles\, evocando otros trenes\, otras épocas\, otros viajes. \n\nJUAN CORONA \n\n\nEs Catedrático de economía y Director General del Instituto de Empresa Familiar. Durante los últimos 30 años  ha  desarrollado  una  intensa  actividad  en  el  ámbito académico y empresarial\, siendo autor de más de 40 libros y numerosos artículos en revistas especializadas y de divulgación. Pero sobre todo\, Corona es viajero\, un gran experto en las grandes aventuras de la historia de la exploración mundial que\, además\, ha seguido los pasos de muchos exploradores míticos a pie de terreno. Juan Corona conoce todos los detalles de las películas que reflejan estas historias en la gran pantalla. \n  \n\n\n 
URL:https://old.sge.org/evento/la-gran-aventura-del-tren-ciclo-de-conferencias/
LOCATION:Utópica\, Calle Conde de Peñalver 47\, Madrid\, 28006\, España
CATEGORIES:Conferencias,Tertulias
ATTACH;FMTTYPE=image/jpeg:https://old.sge.org/wp-content/uploads/2019/04/viajes-de-cine.jpg
END:VEVENT
END:VCALENDAR