BEGIN:VCALENDAR
VERSION:2.0
PRODID:-//Sociedad Geográfica Española - ECPv6.10.3//NONSGML v1.0//EN
CALSCALE:GREGORIAN
METHOD:PUBLISH
X-ORIGINAL-URL:https://old.sge.org
X-WR-CALDESC:Eventos para Sociedad Geográfica Española
REFRESH-INTERVAL;VALUE=DURATION:PT1H
X-Robots-Tag:noindex
X-PUBLISHED-TTL:PT1H

BEGIN:VEVENT
DTSTART;TZID=Europe/Madrid:20260423T002418
DTEND;TZID=Europe/Madrid:20240521T110100
DTSTAMP:20260423T002418
CREATED:20240222T144155Z
LAST-MODIFIED:20240521T110212Z
UID:33751-0-1716289260@old.sge.org
SUMMARY:ALASKA\, LA LLAMADA DE LA NATURALEZA
DESCRIPTION:Diversidad geográfica y conexión con la Naturaleza\, en los confines del mundo habitado de Norteamérica\nAlaska es una península singular\, ubicada entre los océanos Ártico y Pacífico y en el límite noroccidental de Norteamérica que ofrece paisajes extremos. \nEs una tierra de extensas montañas\, glaciares\, bosques y tundra donde el frío y el hielo son las constantes que dirigen los paisajes y condicionan la presencia humana. Aúna el Ártico con su naturaleza salvaje -fauna\, montañas glaciadas\, extensos valles\, turberas\, tundra y taiga- y el desarrollo humano en ciudades y asentamientos -mineros\, militares\, pesqueros- esparcidos por su territorio y que en ocasiones han dejado una profunda huella. \nDe sur a norte se pueden admirar paisajes costeros modelados por el hielo\, con fiordos\, montañas y frentes glaciares sobre el mar que nos llevan a las montañas continentales\, los grandes espacios con las cumbres más altas y donde de nuevo alternan bosques y praderas con unos glaciares que muestran los rastros de su reciente retroceso sin perder la belleza del ártico. Más al norte\, los grandes ríos y sus llanuras dominan el paisaje\, caracterizado por la presencia de amplios bosques y el permafrost. Son extensas masas de coníferas que colonizan los sustratos helados. \n  \n\n 
URL:https://old.sge.org/evento/alaska-la-llamada-de-la-naturaleza/
CATEGORIES:Viajes
ATTACH;FMTTYPE=image/jpeg:https://old.sge.org/wp-content/uploads/2024/02/barth-bailey-DeNUFD4XcNA-unsplash.jpg
ORGANIZER;CN="Sociedad Geogr%C3%A1fica Espa%C3%B1ola":MAILTO:sge@sge.org
END:VEVENT
BEGIN:VEVENT
DTSTART;TZID=Europe/Madrid:20190425T080000
DTEND;TZID=Europe/Madrid:20190506T170000
DTSTAMP:20260423T002418
CREATED:20190704T091532Z
LAST-MODIFIED:20190704T093925Z
UID:17281-1556179200-1557162000@old.sge.org
SUMMARY:DESCIFRANDO LOS ENIGMAS DE LOS FARAONES
DESCRIPTION:El 21 de julio de 1798 Napoleón enardeció el ánimo de sus tropas con la famosa frase: “¡Desde lo alto de esas pirámides cuarenta siglos os contemplan!”. La verdad es que la afirmación fue asombrosamente exacta\, la Gran Pirámide tenía\, por entonces\, unos cuarenta y tres siglos. Aunque lo más sorprendente es que entonces nadie conocía la edad de esas majestuosas moles de piedra y la egiptología no había iniciado ni sus primeros pasos. Se estaban forjando los cimientos de una ciencia que tiene devoción por el Egipto faraónico. Desde entonces los descubrimientos se han ido sucedido y la ciencia se ha desarrollado\, pero el auténtico motor de todo ello sigue siendo la fascinación y la curiosidad. Esa fascinación que sigue moviendo a miles de aficionados y estudiosos. \n  \nMIRYAM SECO \nEs Académica correspondiente en Egipto de la Real Academia de Bellas Artes Santa Isabel de Hungría de Sevilla desde febrero de 2006. \nActualmente directora del proyecto de excavación\, restauración y puesta en valor del templo de Millones de Años de Tutmosis III en Luxor\, en colaboración con el Ministerio de Antigüedades Egipcio. \nEs profesora invitada desde el 2009 en el master de dibujo de la facultad de Bellas Artes de la Universidad de Granada. Y profesora del curso “Los templos del Antiguo Egipto” del Master de Egiptología de la Universidad de Murcia desde 2016. \nDesde el año 1996 ha trabajado en diversos yacimientos arqueológicos en Egipto\, y desde el año 2002 también en Líbano. De 2006 a 2011 directora del proyecto de excavación de un pecio fenicio al noroeste de la ciudad de Tiro\, en colaboración con la Dirección General de Antigüedades Libanesas. Ha trabajado con el Instituto Arqueológico Alemán en la Necrópolis de Dahshur\, con el Centro de Estudios Alejandrinos en el yacimiento de Qait Bay en Alejandría\, con el Instituto de Arqueología Náutica en el Mar Rojo y en el proyecto de excavación del Templo Funerario de Amenophis III entre otros. También trabajó como coordinadora de la exposición de 120 Años de Arqueología Española en Egipto\, inaugurada en el Museo de El Cairo en abril de 2009. Y ha participado en el rodaje de la película en formato IMAX titulada “El Misterio del Nilo” en el 2003. \nOrganización técnica: Utópica Travel \n  DESCARGAR EL PROGRAMA
URL:https://old.sge.org/evento/descifrando-los-enigmas-de-los-faraones/
CATEGORIES:Viajes
ATTACH;FMTTYPE=image/jpeg:https://old.sge.org/wp-content/uploads/2018/11/4bff17f69294728969e3236607b8da03.jpg
END:VEVENT
END:VCALENDAR