BEGIN:VCALENDAR
VERSION:2.0
PRODID:-//Sociedad Geográfica Española - ECPv6.10.3//NONSGML v1.0//EN
CALSCALE:GREGORIAN
METHOD:PUBLISH
X-ORIGINAL-URL:https://old.sge.org
X-WR-CALDESC:Eventos para Sociedad Geográfica Española
REFRESH-INTERVAL;VALUE=DURATION:PT1H
X-Robots-Tag:noindex
X-PUBLISHED-TTL:PT1H

BEGIN:VEVENT
DTSTART;TZID=Europe/Madrid:20260423T050857
DTEND;TZID=Europe/Madrid:20240521T110100
DTSTAMP:20260423T050857
CREATED:20240222T144155Z
LAST-MODIFIED:20240521T110212Z
UID:33751-0-1716289260@old.sge.org
SUMMARY:ALASKA\, LA LLAMADA DE LA NATURALEZA
DESCRIPTION:Diversidad geográfica y conexión con la Naturaleza\, en los confines del mundo habitado de Norteamérica\nAlaska es una península singular\, ubicada entre los océanos Ártico y Pacífico y en el límite noroccidental de Norteamérica que ofrece paisajes extremos. \nEs una tierra de extensas montañas\, glaciares\, bosques y tundra donde el frío y el hielo son las constantes que dirigen los paisajes y condicionan la presencia humana. Aúna el Ártico con su naturaleza salvaje -fauna\, montañas glaciadas\, extensos valles\, turberas\, tundra y taiga- y el desarrollo humano en ciudades y asentamientos -mineros\, militares\, pesqueros- esparcidos por su territorio y que en ocasiones han dejado una profunda huella. \nDe sur a norte se pueden admirar paisajes costeros modelados por el hielo\, con fiordos\, montañas y frentes glaciares sobre el mar que nos llevan a las montañas continentales\, los grandes espacios con las cumbres más altas y donde de nuevo alternan bosques y praderas con unos glaciares que muestran los rastros de su reciente retroceso sin perder la belleza del ártico. Más al norte\, los grandes ríos y sus llanuras dominan el paisaje\, caracterizado por la presencia de amplios bosques y el permafrost. Son extensas masas de coníferas que colonizan los sustratos helados. \n  \n\n 
URL:https://old.sge.org/evento/alaska-la-llamada-de-la-naturaleza/
CATEGORIES:Viajes
ATTACH;FMTTYPE=image/jpeg:https://old.sge.org/wp-content/uploads/2024/02/barth-bailey-DeNUFD4XcNA-unsplash.jpg
ORGANIZER;CN="Sociedad Geogr%C3%A1fica Espa%C3%B1ola":MAILTO:sge@sge.org
END:VEVENT
BEGIN:VEVENT
DTSTART;TZID=Europe/Madrid:20190226T190000
DTEND;TZID=Europe/Madrid:20190226T203000
DTSTAMP:20260423T050857
CREATED:20190131T141257Z
LAST-MODIFIED:20190204T111051Z
UID:16288-1551207600-1551213000@old.sge.org
SUMMARY:PATAGONIA ARGENTINA\, LA TIERRA DEL FIN DEL MUNDO.
DESCRIPTION:Pedro Nicolás nos acercará a una tierra de contrastes\, de condiciones extremas\, de pioneros y exploradores y de vida adaptada a un duro entorno.  Conoceremos más de cerca la geografía de un lugar donde el Planeta muestra su fuerza y su belleza a partes iguales y en grado superlativo. \nPedro Nicolás es geógrafo y alpinista. Como geógrafo ejerce de profesor en la Universidad Autónoma de Madrid\, donde es docente en materias de conocimiento del medio. Como investigador ha trabajado en áreas relacionadas con la geomorfología y el paisaje de montaña y de áreas frías\, así como en la gestión del uso público y deportivo en espacios naturales protegidos\, siendo unos de los directores del Plan de Ordenación de los Recursos Naturales encaminado a la declaración del actual Parque Nacional de la Sierra de Guadarrama. \nComo alpinista\, actividad que practica desde los 15 años\, ha sido profesor de la Escuela Nacional de Alta Montaña y es miembro del Grupo Nacional de Alta Montaña y del Grupo de Alta Montaña de la Real Sociedad Española de Alpinismo Peñalara\, asociación centenaria de nuestro alpinismo de la que actualmente es Presidente. Entre sus muchas actividades alpinas destacan las escaladas a dos ochomiles y tres sietemiles\, así como la primera ascensión nacional al Monte Vinson\, techo de la Antártida. \nHa impartido decenas de conferencias sobre la geografía de las montañas y sobre alpinismo. Ha escrito\, sido coautor\, o prologado más de una decena de libros relacionado con los mismos temas. \nDesde hace quince años es vocal de la Junta Directiva de la Sociedad Geográfica Española\, donde durante años ha organizado y dirigido salidas a la montaña. \n  \nImprescindible confirmación de asistencia en: sge@sge.org \n 
URL:https://old.sge.org/evento/patagonia-argentina-la-tierra-del-fin-del-mundo/
LOCATION:Utópica\, Calle Conde de Peñalver 47\, Madrid\, 28006\, España
CATEGORIES:Tertulias
ATTACH;FMTTYPE=image/jpeg:https://old.sge.org/wp-content/uploads/2018/11/perito-scaled.jpg
ORGANIZER;CN="SGE":MAILTO:sge@sge.org
END:VEVENT
END:VCALENDAR