BEGIN:VCALENDAR
VERSION:2.0
PRODID:-//Sociedad Geográfica Española - ECPv6.10.3//NONSGML v1.0//EN
CALSCALE:GREGORIAN
METHOD:PUBLISH
X-WR-CALNAME:Sociedad Geográfica Española
X-ORIGINAL-URL:https://old.sge.org
X-WR-CALDESC:Eventos para Sociedad Geográfica Española
REFRESH-INTERVAL;VALUE=DURATION:PT1H
X-Robots-Tag:noindex
X-PUBLISHED-TTL:PT1H

BEGIN:VEVENT
DTSTART;TZID=Europe/Madrid:20260423T081453
DTEND;TZID=Europe/Madrid:20240521T110100
DTSTAMP:20260423T081453
CREATED:20240222T144155Z
LAST-MODIFIED:20240521T110212Z
UID:33751-0-1716289260@old.sge.org
SUMMARY:ALASKA\, LA LLAMADA DE LA NATURALEZA
DESCRIPTION:Diversidad geográfica y conexión con la Naturaleza\, en los confines del mundo habitado de Norteamérica\nAlaska es una península singular\, ubicada entre los océanos Ártico y Pacífico y en el límite noroccidental de Norteamérica que ofrece paisajes extremos. \nEs una tierra de extensas montañas\, glaciares\, bosques y tundra donde el frío y el hielo son las constantes que dirigen los paisajes y condicionan la presencia humana. Aúna el Ártico con su naturaleza salvaje -fauna\, montañas glaciadas\, extensos valles\, turberas\, tundra y taiga- y el desarrollo humano en ciudades y asentamientos -mineros\, militares\, pesqueros- esparcidos por su territorio y que en ocasiones han dejado una profunda huella. \nDe sur a norte se pueden admirar paisajes costeros modelados por el hielo\, con fiordos\, montañas y frentes glaciares sobre el mar que nos llevan a las montañas continentales\, los grandes espacios con las cumbres más altas y donde de nuevo alternan bosques y praderas con unos glaciares que muestran los rastros de su reciente retroceso sin perder la belleza del ártico. Más al norte\, los grandes ríos y sus llanuras dominan el paisaje\, caracterizado por la presencia de amplios bosques y el permafrost. Son extensas masas de coníferas que colonizan los sustratos helados. \n  \n\n 
URL:https://old.sge.org/evento/alaska-la-llamada-de-la-naturaleza/
CATEGORIES:Viajes
ATTACH;FMTTYPE=image/jpeg:https://old.sge.org/wp-content/uploads/2024/02/barth-bailey-DeNUFD4XcNA-unsplash.jpg
ORGANIZER;CN="Sociedad Geogr%C3%A1fica Espa%C3%B1ola":MAILTO:sge@sge.org
END:VEVENT
BEGIN:VEVENT
DTSTART;VALUE=DATE:20181129
DTEND;VALUE=DATE:20181208
DTSTAMP:20260423T081453
CREATED:20180131T131245Z
LAST-MODIFIED:20180727T093002Z
UID:12627-1543449600-1544227199@old.sge.org
SUMMARY:SENEGAL
DESCRIPTION:CULTURA\, MERCADOS\, ARQUITECTURA E HISTORIA DE ÁFRICA OCCIDENTAL. \nEl viaje se inicia en la costa histórica del norte\, explora la antigua ciudad colonial de Saint Louis\, se sumerge en los barrios populares y mercados multicolor. Con una piragua exploramos el parque Nacional de Langue de Barbarie\, santuario de aves migratorias. Abandonamos el norte desértico y seguimos hacia el centro religioso del país\, lugar ignorado por los grandes tour operadores pero que sin visitarlo no se puede entender del todo Senegal y a los senegaleses. Descubrimos el mundo pescador y agricultor serer en la zona de Kaolack y finalizamos esta ruta en la costa de Mbour\, lugar relajado\, con música y buen ambiente. Un lugar ideal para despedirse de África. \nAcompañará el viaje Joan Riera. Antropólogo especialista en África Occidental y ligado por razones familiares a Benín\, estudia y escribe sobre todas las temáticas que componen la personalidad de estos países africanos: desde sus estrechas calles en barrios coloniales\, sus parques naturales\, sus tribus y gentes\, su historia\, lenguas y costumbres\, y sus religiones. \nOrganización técnica: Ocoa Travel \n\n  DESCARGAR EL PROGRAMA
URL:https://old.sge.org/evento/senegal/
CATEGORIES:Viajes
ATTACH;FMTTYPE=image/png:https://old.sge.org/wp-content/uploads/2018/01/lac-rose.png
END:VEVENT
BEGIN:VEVENT
DTSTART;TZID=Europe/Madrid:20181129T193000
DTEND;TZID=Europe/Madrid:20181129T210000
DTSTAMP:20260423T081453
CREATED:20181123T093606Z
LAST-MODIFIED:20181123T095004Z
UID:15736-1543519800-1543525200@old.sge.org
SUMMARY:Viaje al Oriente desaparecido -  Presentación de "Espejismo"
DESCRIPTION:Dos coches destartalados\, 45 días\, nueve fronteras y 15.000 kilómetros para recorrer 6.000 años en el filo entre la historia y la leyenda. Este es el relato de un viaje a lugares que ya nunca volverán a ser como se recuerdan entre sus páginas. Esta es la instantánea de un Espejismo. \nEn la presentación participarán: \n– Carla Fibla\, periodista y escritora experta en el mundo árabe.\n– Cristina Morató\, periodista y escritora\, directora de la colección “Ciudad Invisible”.\n– Antonio Rubio\, periodista de investigación y coordinador de colecciones de Libros.com.\n– Emma Lira\, autora del libro\, periodista y escritora. \n> DESCARGA TU INVITACIÓN \nImprescindible confirmación de asistencia en sge@sge.org \n 
URL:https://old.sge.org/evento/viaje-al-oriente-desaparecido-presentacion-de-espejismo/
LOCATION:Utópica\, Calle Conde de Peñalver 47\, Madrid\, 28006\, España
CATEGORIES:Tertulias
ATTACH;FMTTYPE=image/jpeg:https://old.sge.org/wp-content/uploads/2018/11/18359318_1013855895417887_6841069078706178883_o-800x378-2.jpg
END:VEVENT
END:VCALENDAR