BEGIN:VCALENDAR
VERSION:2.0
PRODID:-//Sociedad Geográfica Española - ECPv6.10.3//NONSGML v1.0//EN
CALSCALE:GREGORIAN
METHOD:PUBLISH
X-ORIGINAL-URL:https://old.sge.org
X-WR-CALDESC:Eventos para Sociedad Geográfica Española
REFRESH-INTERVAL;VALUE=DURATION:PT1H
X-Robots-Tag:noindex
X-PUBLISHED-TTL:PT1H

BEGIN:VEVENT
DTSTART;TZID=Europe/Madrid:20260423T135610
DTEND;TZID=Europe/Madrid:20240521T110100
DTSTAMP:20260423T135610
CREATED:20240222T144155Z
LAST-MODIFIED:20240521T110212Z
UID:33751-0-1716289260@old.sge.org
SUMMARY:ALASKA\, LA LLAMADA DE LA NATURALEZA
DESCRIPTION:Diversidad geográfica y conexión con la Naturaleza\, en los confines del mundo habitado de Norteamérica\nAlaska es una península singular\, ubicada entre los océanos Ártico y Pacífico y en el límite noroccidental de Norteamérica que ofrece paisajes extremos. \nEs una tierra de extensas montañas\, glaciares\, bosques y tundra donde el frío y el hielo son las constantes que dirigen los paisajes y condicionan la presencia humana. Aúna el Ártico con su naturaleza salvaje -fauna\, montañas glaciadas\, extensos valles\, turberas\, tundra y taiga- y el desarrollo humano en ciudades y asentamientos -mineros\, militares\, pesqueros- esparcidos por su territorio y que en ocasiones han dejado una profunda huella. \nDe sur a norte se pueden admirar paisajes costeros modelados por el hielo\, con fiordos\, montañas y frentes glaciares sobre el mar que nos llevan a las montañas continentales\, los grandes espacios con las cumbres más altas y donde de nuevo alternan bosques y praderas con unos glaciares que muestran los rastros de su reciente retroceso sin perder la belleza del ártico. Más al norte\, los grandes ríos y sus llanuras dominan el paisaje\, caracterizado por la presencia de amplios bosques y el permafrost. Son extensas masas de coníferas que colonizan los sustratos helados. \n  \n\n 
URL:https://old.sge.org/evento/alaska-la-llamada-de-la-naturaleza/
CATEGORIES:Viajes
ATTACH;FMTTYPE=image/jpeg:https://old.sge.org/wp-content/uploads/2024/02/barth-bailey-DeNUFD4XcNA-unsplash.jpg
ORGANIZER;CN="Sociedad Geogr%C3%A1fica Espa%C3%B1ola":MAILTO:sge@sge.org
END:VEVENT
BEGIN:VEVENT
DTSTART;TZID=Europe/Madrid:20181018T110000
DTEND;TZID=Europe/Madrid:20181018T173000
DTSTAMP:20260423T135610
CREATED:20181015T100512Z
LAST-MODIFIED:20181018T135008Z
UID:15064-1539860400-1539883800@old.sge.org
SUMMARY:Sierra de las Nieves
DESCRIPTION:Desde la Junta Rectora del Parque\, en colaboración con las Mancomunidades de municipios de la Sierra de las Nieves y la SGE de Málaga\, se ofrece la oportunidad de conocer la Reserva de la Biosfera\, la evolución de la organización socioterritorial y ambiental y el impacto económico que conlleva la declaración de parque nacional. \n  \nPROGRAMA DE LA ACTIVIDAD\nNUEVA FECHA DE CELEBRACIÓN PENDIENTE DE CONFIRMACIÓN\n \n\nLa SGE propone una salida por Málaga para conocer más a fondo la Sierra de las Nieves\, así como las causas que propiciaron su declaración como Parque Nacional. \nIntervendrán en las explicaciones: D. Antonio Pérez\, presidente; D. Tomás Rueda\, gerente; Mª Luisa Gómez\, presidenta de la Junta Rectora del parque natural Sierra de las Nieves. \nLa actividad constará además de la visita a las localidades de Casarabonela\, donde se hablará del sistema de acequias tradicional; y a Jorox\, donde se realizará un recorrido por el travertino\, que contará con las explicaciones de Jesús Vías sobre el funcionamiento del acuífero y de la formación de los travertinos. \nFin de la actividad a las 17:30 h. \n  \nParticipación exclusiva para socios. Plazas limitadas. \nCONFIRMACIÓN DE ASISTENCIA EN sge@sge.org
URL:https://old.sge.org/evento/sierra-de-las-nieves/
CATEGORIES:Senderismo
ATTACH;FMTTYPE=image/jpeg:https://old.sge.org/wp-content/uploads/2017/07/bosquedecastanos.jpg
END:VEVENT
END:VCALENDAR