BEGIN:VCALENDAR
VERSION:2.0
PRODID:-//Sociedad Geográfica Española - ECPv6.10.3//NONSGML v1.0//EN
CALSCALE:GREGORIAN
METHOD:PUBLISH
X-WR-CALNAME:Sociedad Geográfica Española
X-ORIGINAL-URL:https://old.sge.org
X-WR-CALDESC:Eventos para Sociedad Geográfica Española
REFRESH-INTERVAL;VALUE=DURATION:PT1H
X-Robots-Tag:noindex
X-PUBLISHED-TTL:PT1H

BEGIN:VEVENT
DTSTART;TZID=Europe/Madrid:20260423T222712
DTEND;TZID=Europe/Madrid:20240521T110100
DTSTAMP:20260423T222712
CREATED:20240222T144155Z
LAST-MODIFIED:20240521T110212Z
UID:33751-0-1716289260@old.sge.org
SUMMARY:ALASKA\, LA LLAMADA DE LA NATURALEZA
DESCRIPTION:Diversidad geográfica y conexión con la Naturaleza\, en los confines del mundo habitado de Norteamérica\nAlaska es una península singular\, ubicada entre los océanos Ártico y Pacífico y en el límite noroccidental de Norteamérica que ofrece paisajes extremos. \nEs una tierra de extensas montañas\, glaciares\, bosques y tundra donde el frío y el hielo son las constantes que dirigen los paisajes y condicionan la presencia humana. Aúna el Ártico con su naturaleza salvaje -fauna\, montañas glaciadas\, extensos valles\, turberas\, tundra y taiga- y el desarrollo humano en ciudades y asentamientos -mineros\, militares\, pesqueros- esparcidos por su territorio y que en ocasiones han dejado una profunda huella. \nDe sur a norte se pueden admirar paisajes costeros modelados por el hielo\, con fiordos\, montañas y frentes glaciares sobre el mar que nos llevan a las montañas continentales\, los grandes espacios con las cumbres más altas y donde de nuevo alternan bosques y praderas con unos glaciares que muestran los rastros de su reciente retroceso sin perder la belleza del ártico. Más al norte\, los grandes ríos y sus llanuras dominan el paisaje\, caracterizado por la presencia de amplios bosques y el permafrost. Son extensas masas de coníferas que colonizan los sustratos helados. \n  \n\n 
URL:https://old.sge.org/evento/alaska-la-llamada-de-la-naturaleza/
CATEGORIES:Viajes
ATTACH;FMTTYPE=image/jpeg:https://old.sge.org/wp-content/uploads/2024/02/barth-bailey-DeNUFD4XcNA-unsplash.jpg
ORGANIZER;CN="Sociedad Geogr%C3%A1fica Espa%C3%B1ola":MAILTO:sge@sge.org
END:VEVENT
BEGIN:VEVENT
DTSTART;VALUE=DATE:20180623
DTEND;VALUE=DATE:20180708
DTSTAMP:20260423T222712
CREATED:20180131T123903Z
LAST-MODIFIED:20180504T112417Z
UID:12612-1529712000-1531007999@old.sge.org
SUMMARY:RUTA POR LAS RAÍCES ESPAÑOLAS EN FILIPINAS
DESCRIPTION:El itinerario plantea un recorrido de 16 días en JUNIO (por confirmar) por los principales lugares donde aún está presente la huella española en Filipinas. Visitaremos lugares y conversaremos con personalidades vinculadas a las relaciones entre España y Filipinas. \nEn Manila recorreremos Intramuros\, la antigua ciudad amurallada con paseos por su calles y visitas guiadas. En Baler (Aurora) visitaremos la célebre iglesia donde en 1898 resistieron los 42 soldados españoles que no creían que la guerra había terminado. Haremos una excursión a Cavite\, la ciudad portuaria para el Galeón de Manila y escenario de la batalla entre la flota española y la estadounidense en 1898. En Cebú haremos una visita guiada a la isla de Mactan\, donde llegó Fernando de Magallanes y murió luchando ante el caudillo local Lapu-Lapu; y donde Juan Sebastián Elcano cogió los mandos de aquella expedición marina que consiguió la primera circunnavegación del mundo. \nAcompañará el viaje el periodista y escritor Ramón Vilaró. Ha sido corresponsal de El País en Extremo Oriente y su extensa relación personal y profesional con Filipinas se refleja en dos libros\, numerosos artículos y documentales para televisión. \nOrganización técnica: Orixá viajes \nPLAZO DE INSCRIPCIÓN: A PARTIR DE LAS 10:00 H DEL 3 DE MAYO DE 2018. \nINSCRIPCIONES POR ESCRITO EN SGE@SGE.ORG \n  \n\nDESCARGAR EL PROGRAMA AQUÍ.
URL:https://old.sge.org/evento/ruta-las-raices-espanolas-filipinas/
CATEGORIES:Viajes
ATTACH;FMTTYPE=image/jpeg:https://old.sge.org/wp-content/uploads/2018/01/Inside_the_Batad_rice_terraces-scaled.jpg
END:VEVENT
END:VCALENDAR