BEGIN:VCALENDAR
VERSION:2.0
PRODID:-//Sociedad Geográfica Española - ECPv6.10.3//NONSGML v1.0//EN
CALSCALE:GREGORIAN
METHOD:PUBLISH
X-ORIGINAL-URL:https://old.sge.org
X-WR-CALDESC:Eventos para Sociedad Geográfica Española
REFRESH-INTERVAL;VALUE=DURATION:PT1H
X-Robots-Tag:noindex
X-PUBLISHED-TTL:PT1H

BEGIN:VEVENT
DTSTART;TZID=Europe/Madrid:20260424T014318
DTEND;TZID=Europe/Madrid:20240521T110100
DTSTAMP:20260424T014318
CREATED:20240222T144155Z
LAST-MODIFIED:20240521T110212Z
UID:33751-0-1716289260@old.sge.org
SUMMARY:ALASKA\, LA LLAMADA DE LA NATURALEZA
DESCRIPTION:Diversidad geográfica y conexión con la Naturaleza\, en los confines del mundo habitado de Norteamérica\nAlaska es una península singular\, ubicada entre los océanos Ártico y Pacífico y en el límite noroccidental de Norteamérica que ofrece paisajes extremos. \nEs una tierra de extensas montañas\, glaciares\, bosques y tundra donde el frío y el hielo son las constantes que dirigen los paisajes y condicionan la presencia humana. Aúna el Ártico con su naturaleza salvaje -fauna\, montañas glaciadas\, extensos valles\, turberas\, tundra y taiga- y el desarrollo humano en ciudades y asentamientos -mineros\, militares\, pesqueros- esparcidos por su territorio y que en ocasiones han dejado una profunda huella. \nDe sur a norte se pueden admirar paisajes costeros modelados por el hielo\, con fiordos\, montañas y frentes glaciares sobre el mar que nos llevan a las montañas continentales\, los grandes espacios con las cumbres más altas y donde de nuevo alternan bosques y praderas con unos glaciares que muestran los rastros de su reciente retroceso sin perder la belleza del ártico. Más al norte\, los grandes ríos y sus llanuras dominan el paisaje\, caracterizado por la presencia de amplios bosques y el permafrost. Son extensas masas de coníferas que colonizan los sustratos helados. \n  \n\n 
URL:https://old.sge.org/evento/alaska-la-llamada-de-la-naturaleza/
CATEGORIES:Viajes
ATTACH;FMTTYPE=image/jpeg:https://old.sge.org/wp-content/uploads/2024/02/barth-bailey-DeNUFD4XcNA-unsplash.jpg
ORGANIZER;CN="Sociedad Geogr%C3%A1fica Espa%C3%B1ola":MAILTO:sge@sge.org
END:VEVENT
BEGIN:VEVENT
DTSTART;VALUE=DATE:20180623
DTEND;VALUE=DATE:20180708
DTSTAMP:20260424T014318
CREATED:20180131T123903Z
LAST-MODIFIED:20180504T112417Z
UID:12612-1529712000-1531007999@old.sge.org
SUMMARY:RUTA POR LAS RAÍCES ESPAÑOLAS EN FILIPINAS
DESCRIPTION:El itinerario plantea un recorrido de 16 días en JUNIO (por confirmar) por los principales lugares donde aún está presente la huella española en Filipinas. Visitaremos lugares y conversaremos con personalidades vinculadas a las relaciones entre España y Filipinas. \nEn Manila recorreremos Intramuros\, la antigua ciudad amurallada con paseos por su calles y visitas guiadas. En Baler (Aurora) visitaremos la célebre iglesia donde en 1898 resistieron los 42 soldados españoles que no creían que la guerra había terminado. Haremos una excursión a Cavite\, la ciudad portuaria para el Galeón de Manila y escenario de la batalla entre la flota española y la estadounidense en 1898. En Cebú haremos una visita guiada a la isla de Mactan\, donde llegó Fernando de Magallanes y murió luchando ante el caudillo local Lapu-Lapu; y donde Juan Sebastián Elcano cogió los mandos de aquella expedición marina que consiguió la primera circunnavegación del mundo. \nAcompañará el viaje el periodista y escritor Ramón Vilaró. Ha sido corresponsal de El País en Extremo Oriente y su extensa relación personal y profesional con Filipinas se refleja en dos libros\, numerosos artículos y documentales para televisión. \nOrganización técnica: Orixá viajes \nPLAZO DE INSCRIPCIÓN: A PARTIR DE LAS 10:00 H DEL 3 DE MAYO DE 2018. \nINSCRIPCIONES POR ESCRITO EN SGE@SGE.ORG \n  \n\nDESCARGAR EL PROGRAMA AQUÍ.
URL:https://old.sge.org/evento/ruta-las-raices-espanolas-filipinas/
CATEGORIES:Viajes
ATTACH;FMTTYPE=image/jpeg:https://old.sge.org/wp-content/uploads/2018/01/Inside_the_Batad_rice_terraces-scaled.jpg
END:VEVENT
BEGIN:VEVENT
DTSTART;TZID=Europe/Madrid:20180705T190000
DTEND;TZID=Europe/Madrid:20180705T210000
DTSTAMP:20260424T014318
CREATED:20180529T160129Z
LAST-MODIFIED:20180529T160129Z
UID:13958-1530817200-1530824400@old.sge.org
SUMMARY:Kirguistán\, con Eduardo Martínez de Pisón y Pedro Nicolás.
DESCRIPTION:De la mano de los geógrafos Eduardo Martínez de Pisón y Pedro Nicolás descubriremos Kirguistán: estepas asiáticas\, naturaleza desbordante e inmersión en una forma de vida ancestral\, la de los nómadas kirguís. \nLlamado en muchas ocasiones como “la Suiza de Asia Central”\, Kirguistán es un paraíso de montañas en el que cuatro quintos de su territorio pertenecen a la región montañosa de Tian Shan. Su geografía ha ayudado a conservar su antigua cultura: siempre habitada por una sucesión de tribus y clanes independientes\, Kirguistán ha estado periódicamente bajo dominio extranjero y solo alcanzó la soberanía como estado tras la desintegración de la Unión Soviética.
URL:https://old.sge.org/evento/kirguistan-con-eduardo-martinez-de-pison-y-pedro-nicolas/
LOCATION:Pangea The Travel Store\, Príncipe de Vergara 26\, Madrid\, España
CATEGORIES:Tertulias
ATTACH;FMTTYPE=image/jpeg:https://old.sge.org/wp-content/uploads/2018/05/Sin-título-2.jpg
END:VEVENT
END:VCALENDAR