BEGIN:VCALENDAR
VERSION:2.0
PRODID:-//Sociedad Geográfica Española - ECPv6.10.3//NONSGML v1.0//EN
CALSCALE:GREGORIAN
METHOD:PUBLISH
X-ORIGINAL-URL:https://old.sge.org
X-WR-CALDESC:Eventos para Sociedad Geográfica Española
REFRESH-INTERVAL;VALUE=DURATION:PT1H
X-Robots-Tag:noindex
X-PUBLISHED-TTL:PT1H

BEGIN:VEVENT
DTSTART;TZID=Europe/Madrid:20260424T115958
DTEND;TZID=Europe/Madrid:20240521T110100
DTSTAMP:20260424T115958
CREATED:20240222T144155Z
LAST-MODIFIED:20240521T110212Z
UID:33751-0-1716289260@old.sge.org
SUMMARY:ALASKA\, LA LLAMADA DE LA NATURALEZA
DESCRIPTION:Diversidad geográfica y conexión con la Naturaleza\, en los confines del mundo habitado de Norteamérica\nAlaska es una península singular\, ubicada entre los océanos Ártico y Pacífico y en el límite noroccidental de Norteamérica que ofrece paisajes extremos. \nEs una tierra de extensas montañas\, glaciares\, bosques y tundra donde el frío y el hielo son las constantes que dirigen los paisajes y condicionan la presencia humana. Aúna el Ártico con su naturaleza salvaje -fauna\, montañas glaciadas\, extensos valles\, turberas\, tundra y taiga- y el desarrollo humano en ciudades y asentamientos -mineros\, militares\, pesqueros- esparcidos por su territorio y que en ocasiones han dejado una profunda huella. \nDe sur a norte se pueden admirar paisajes costeros modelados por el hielo\, con fiordos\, montañas y frentes glaciares sobre el mar que nos llevan a las montañas continentales\, los grandes espacios con las cumbres más altas y donde de nuevo alternan bosques y praderas con unos glaciares que muestran los rastros de su reciente retroceso sin perder la belleza del ártico. Más al norte\, los grandes ríos y sus llanuras dominan el paisaje\, caracterizado por la presencia de amplios bosques y el permafrost. Son extensas masas de coníferas que colonizan los sustratos helados. \n  \n\n 
URL:https://old.sge.org/evento/alaska-la-llamada-de-la-naturaleza/
CATEGORIES:Viajes
ATTACH;FMTTYPE=image/jpeg:https://old.sge.org/wp-content/uploads/2024/02/barth-bailey-DeNUFD4XcNA-unsplash.jpg
ORGANIZER;CN="Sociedad Geogr%C3%A1fica Espa%C3%B1ola":MAILTO:sge@sge.org
END:VEVENT
BEGIN:VEVENT
DTSTART;VALUE=DATE:20180226
DTEND;VALUE=DATE:20180308
DTSTAMP:20260424T115958
CREATED:20180131T133036Z
LAST-MODIFIED:20180131T133100Z
UID:12632-1519603200-1520467199@old.sge.org
SUMMARY:"VIAJERAS"\, ciclo de Conferencias en Málaga
DESCRIPTION:“Viajeras”\, dirigido por Cristina Morató\, rinde homenaje a aquellas primeras trotamundos que no fueron unas “locas” ni unas “excéntricas”\, como las tachaban los hombres de ciencia de su tiempo más empeñados en ridiculizarlas que en reconocer sus valiosas aportaciones. Ellas fueron las pioneras y abrieron el camino a las viajeras y exploradoras del siglo XXl que con valor y determinación nos demuestran que las mujeres pueden llegar a donde se lo propongan. \nEl ciclo de conferencias se desarrollará en Málaga los días 26 de febrero\, 6 y 7 de marzo\, y contará con la presencia de la alpinista Chus lago y la escritora Patricia Almarcegui. \nMás información aquí. \nLa Térmica\nAvenida de Los Guindos 48\nMálaga \n\n\n  \n 
URL:https://old.sge.org/evento/viajeras-ciclo-conferenciasen-malaga/
LOCATION:La Térmica\, Avenida de los Guindos 48\, Malaga\, España
CATEGORIES:Conferencias
ATTACH;FMTTYPE=image/jpeg:https://old.sge.org/wp-content/uploads/2018/01/mujeres-viajeras.jpg
END:VEVENT
END:VCALENDAR