BEGIN:VCALENDAR
VERSION:2.0
PRODID:-//Sociedad Geográfica Española - ECPv6.10.3//NONSGML v1.0//EN
CALSCALE:GREGORIAN
METHOD:PUBLISH
X-ORIGINAL-URL:https://old.sge.org
X-WR-CALDESC:Eventos para Sociedad Geográfica Española
REFRESH-INTERVAL;VALUE=DURATION:PT1H
X-Robots-Tag:noindex
X-PUBLISHED-TTL:PT1H

BEGIN:VEVENT
DTSTART;TZID=Europe/Madrid:20260424T144108
DTEND;TZID=Europe/Madrid:20240521T110100
DTSTAMP:20260424T144108
CREATED:20240222T144155Z
LAST-MODIFIED:20240521T110212Z
UID:33751-0-1716289260@old.sge.org
SUMMARY:ALASKA\, LA LLAMADA DE LA NATURALEZA
DESCRIPTION:Diversidad geográfica y conexión con la Naturaleza\, en los confines del mundo habitado de Norteamérica\nAlaska es una península singular\, ubicada entre los océanos Ártico y Pacífico y en el límite noroccidental de Norteamérica que ofrece paisajes extremos. \nEs una tierra de extensas montañas\, glaciares\, bosques y tundra donde el frío y el hielo son las constantes que dirigen los paisajes y condicionan la presencia humana. Aúna el Ártico con su naturaleza salvaje -fauna\, montañas glaciadas\, extensos valles\, turberas\, tundra y taiga- y el desarrollo humano en ciudades y asentamientos -mineros\, militares\, pesqueros- esparcidos por su territorio y que en ocasiones han dejado una profunda huella. \nDe sur a norte se pueden admirar paisajes costeros modelados por el hielo\, con fiordos\, montañas y frentes glaciares sobre el mar que nos llevan a las montañas continentales\, los grandes espacios con las cumbres más altas y donde de nuevo alternan bosques y praderas con unos glaciares que muestran los rastros de su reciente retroceso sin perder la belleza del ártico. Más al norte\, los grandes ríos y sus llanuras dominan el paisaje\, caracterizado por la presencia de amplios bosques y el permafrost. Son extensas masas de coníferas que colonizan los sustratos helados. \n  \n\n 
URL:https://old.sge.org/evento/alaska-la-llamada-de-la-naturaleza/
CATEGORIES:Viajes
ATTACH;FMTTYPE=image/jpeg:https://old.sge.org/wp-content/uploads/2024/02/barth-bailey-DeNUFD4XcNA-unsplash.jpg
ORGANIZER;CN="Sociedad Geogr%C3%A1fica Espa%C3%B1ola":MAILTO:sge@sge.org
END:VEVENT
BEGIN:VEVENT
DTSTART;TZID=Europe/Madrid:20180219T183000
DTEND;TZID=Europe/Madrid:20180219T213000
DTSTAMP:20260424T144108
CREATED:20180202T130638Z
LAST-MODIFIED:20180217T150623Z
UID:12723-1519065000-1519075800@old.sge.org
SUMMARY:CARTOCINE: "Aguirre\, la cólera de Dios"
DESCRIPTION:AVISO IMPORTANTE: LA SESIÓN COMENZARÁ A LAS 18:30 H. DEBIDO A LA DURACIÓN DE LA PELÍCULA \nProyección de la célebre película del director alemán Werner Herzog\, protagonizada por Klaus Kinski\, que narra el viaje del explorador español Lope de Aguirre y un grupo de conquistadores a través del río Amazonas en busca de El Dorado en 1560 y \, poco después de la destrucción del imperio inca. A través del diario del fraile Diego Gaspar de Carvajal iremos conociendo detalles y circunstancias de aquella peligrosa aventura… \nEl film\, de  1972\, recibió el reconocimiento de la crítica y rápidamente fue catalogada como película de culto y\, aun hoy\, está considerada como una auténtica obra maestra. \nLa proyección\,que tendrá lugar en el Salón de Actos del IGN\, estará precedida por un coloquio a cargo de Lola Escudero\, Secretaria General de la SGE.
URL:https://old.sge.org/evento/cartocine-aguirre-la-colera-dios/
LOCATION:Instituto Geográfico Nacional\, General Ibáñez de Ibero 3\, Madrid\, España
CATEGORIES:Presentaciones
ATTACH;FMTTYPE=image/jpeg:https://old.sge.org/wp-content/uploads/2018/02/51aNbEB8pVL.jpg
END:VEVENT
END:VCALENDAR