BEGIN:VCALENDAR
VERSION:2.0
PRODID:-//Sociedad Geográfica Española - ECPv6.10.3//NONSGML v1.0//EN
CALSCALE:GREGORIAN
METHOD:PUBLISH
X-WR-CALNAME:Sociedad Geográfica Española
X-ORIGINAL-URL:https://old.sge.org
X-WR-CALDESC:Eventos para Sociedad Geográfica Española
REFRESH-INTERVAL;VALUE=DURATION:PT1H
X-Robots-Tag:noindex
X-PUBLISHED-TTL:PT1H

BEGIN:VEVENT
DTSTART;TZID=Europe/Madrid:20260425T033607
DTEND;TZID=Europe/Madrid:20240521T110100
DTSTAMP:20260425T033607
CREATED:20240222T144155Z
LAST-MODIFIED:20240521T110212Z
UID:33751-0-1716289260@old.sge.org
SUMMARY:ALASKA\, LA LLAMADA DE LA NATURALEZA
DESCRIPTION:Diversidad geográfica y conexión con la Naturaleza\, en los confines del mundo habitado de Norteamérica\nAlaska es una península singular\, ubicada entre los océanos Ártico y Pacífico y en el límite noroccidental de Norteamérica que ofrece paisajes extremos. \nEs una tierra de extensas montañas\, glaciares\, bosques y tundra donde el frío y el hielo son las constantes que dirigen los paisajes y condicionan la presencia humana. Aúna el Ártico con su naturaleza salvaje -fauna\, montañas glaciadas\, extensos valles\, turberas\, tundra y taiga- y el desarrollo humano en ciudades y asentamientos -mineros\, militares\, pesqueros- esparcidos por su territorio y que en ocasiones han dejado una profunda huella. \nDe sur a norte se pueden admirar paisajes costeros modelados por el hielo\, con fiordos\, montañas y frentes glaciares sobre el mar que nos llevan a las montañas continentales\, los grandes espacios con las cumbres más altas y donde de nuevo alternan bosques y praderas con unos glaciares que muestran los rastros de su reciente retroceso sin perder la belleza del ártico. Más al norte\, los grandes ríos y sus llanuras dominan el paisaje\, caracterizado por la presencia de amplios bosques y el permafrost. Son extensas masas de coníferas que colonizan los sustratos helados. \n  \n\n 
URL:https://old.sge.org/evento/alaska-la-llamada-de-la-naturaleza/
CATEGORIES:Viajes
ATTACH;FMTTYPE=image/jpeg:https://old.sge.org/wp-content/uploads/2024/02/barth-bailey-DeNUFD4XcNA-unsplash.jpg
ORGANIZER;CN="Sociedad Geogr%C3%A1fica Espa%C3%B1ola":MAILTO:sge@sge.org
END:VEVENT
BEGIN:VEVENT
DTSTART;TZID=Europe/Madrid:20180118T193000
DTEND;TZID=Europe/Madrid:20180118T210000
DTSTAMP:20260425T033607
CREATED:20180109T115801Z
LAST-MODIFIED:20180109T150557Z
UID:12550-1516303800-1516309200@old.sge.org
SUMMARY:
DESCRIPTION:Eduardo Martínez de Pisón presenta a los socios de Málaga su último libro “La montaña y el arte. Miradas desde la pintura\, la música y la literatura”.\nPara Eduardo Martínez de Pisón la montaña es parte de la exploración geográfica: es un todo geográfico y cultural\, donde su vertiente artística es especialmente reveladora y magnífica. El Mont Blanc y los Alpes\, el Everest y el Himalaya\, o nuestros más cercanos Pirineos o Sierra de Guadarrama\, durante siglos han captado la atención de generaciones de artistas. \nEduardo Martínez de Pisón es el decano de los geógrafos españoles. Es catedrático emérito de Geografía de la Universidad Autónoma de Madrid. Dibujante\, orador\, escritor\, lector\, bibliófilo\, montañero… es uno de los grandes intelectuales de España\, mezcla de hombre de letras y de ciencias. \nEs uno de los nombres indiscutibles del ecologismo en nuestro país. Premio Nacional de Medio Ambiente en 1991\, entre 1991 y 1995 presidió el Comité Español del Comité Científico para la Investigación en la Antártida. Fue vocal del Comité Científico de Parques Nacionales\, es miembro de los patronatos del Parque Nacional de Ordesa y Monte Perdido\, del Parque Nacional de la Sierra de Guadarrama y miembro de honor del patronato del Parque Nacional del Teide. \nLa mayor parte de su investigación\, publicaciones y docencia se centran en Geografía Física: paisajes naturales\, relieves volcánicos\, cordilleras y glaciares. Además\, ha escrito sobre pensamiento geográfico\, geografía medioambiental y sobre las relaciones entre geografía\, paisaje y cultura.
URL:https://old.sge.org/evento/12550/
LOCATION:Hotel Vincci Posada del Patio\, Calle Santa Isabel 7.\, Málaga\, España
CATEGORIES:Tertulias
ATTACH;FMTTYPE=image/jpeg:https://old.sge.org/wp-content/uploads/2018/01/Sin-título-6.jpg
ORGANIZER;CN="SGE":MAILTO:sge@sge.org
END:VEVENT
END:VCALENDAR