BEGIN:VCALENDAR
VERSION:2.0
PRODID:-//Sociedad Geográfica Española - ECPv6.10.3//NONSGML v1.0//EN
CALSCALE:GREGORIAN
METHOD:PUBLISH
X-ORIGINAL-URL:https://old.sge.org
X-WR-CALDESC:Eventos para Sociedad Geográfica Española
REFRESH-INTERVAL;VALUE=DURATION:PT1H
X-Robots-Tag:noindex
X-PUBLISHED-TTL:PT1H

BEGIN:VEVENT
DTSTART;TZID=Europe/Madrid:20260425T214156
DTEND;TZID=Europe/Madrid:20240521T110100
DTSTAMP:20260425T214156
CREATED:20240222T144155Z
LAST-MODIFIED:20240521T110212Z
UID:33751-0-1716289260@old.sge.org
SUMMARY:ALASKA\, LA LLAMADA DE LA NATURALEZA
DESCRIPTION:Diversidad geográfica y conexión con la Naturaleza\, en los confines del mundo habitado de Norteamérica\nAlaska es una península singular\, ubicada entre los océanos Ártico y Pacífico y en el límite noroccidental de Norteamérica que ofrece paisajes extremos. \nEs una tierra de extensas montañas\, glaciares\, bosques y tundra donde el frío y el hielo son las constantes que dirigen los paisajes y condicionan la presencia humana. Aúna el Ártico con su naturaleza salvaje -fauna\, montañas glaciadas\, extensos valles\, turberas\, tundra y taiga- y el desarrollo humano en ciudades y asentamientos -mineros\, militares\, pesqueros- esparcidos por su territorio y que en ocasiones han dejado una profunda huella. \nDe sur a norte se pueden admirar paisajes costeros modelados por el hielo\, con fiordos\, montañas y frentes glaciares sobre el mar que nos llevan a las montañas continentales\, los grandes espacios con las cumbres más altas y donde de nuevo alternan bosques y praderas con unos glaciares que muestran los rastros de su reciente retroceso sin perder la belleza del ártico. Más al norte\, los grandes ríos y sus llanuras dominan el paisaje\, caracterizado por la presencia de amplios bosques y el permafrost. Son extensas masas de coníferas que colonizan los sustratos helados. \n  \n\n 
URL:https://old.sge.org/evento/alaska-la-llamada-de-la-naturaleza/
CATEGORIES:Viajes
ATTACH;FMTTYPE=image/jpeg:https://old.sge.org/wp-content/uploads/2024/02/barth-bailey-DeNUFD4XcNA-unsplash.jpg
ORGANIZER;CN="Sociedad Geogr%C3%A1fica Espa%C3%B1ola":MAILTO:sge@sge.org
END:VEVENT
BEGIN:VEVENT
DTSTART;TZID=Europe/Madrid:20171118T090000
DTEND;TZID=Europe/Madrid:20171118T130000
DTSTAMP:20260425T214157
CREATED:20171031T091338Z
LAST-MODIFIED:20171114T123358Z
UID:11583-1510995600-1511010000@old.sge.org
SUMMARY:Patrimonio verde urbano: el Real Jardín Botánico en otoño\, con Pilar Lacasta.
DESCRIPTION:Visitar el Real Jardín Botánico es un placer en cualquier época del año. Visitarlo en otoño es una experiencia maravillosa. \nCaminar por un jardín siempre es emocionante porque reactiva la sensación de pertenencia a la tierra\, a la naturaleza\, que muchas veces se olvida en las ciudades. Pero recorrer un jardín botánico hace algo más\, nos lleva a caminar con los grandes exploradores\, a imaginar lo que vivieron cuando recolectaban semillas y plantas de lugares lejanos\, y nos permite conocer especies vegetales que no encontramos en nuestros ecosistemas. \nLa visita puede ser muy diferente dependiendo del objetivo que se persiga: estudio botánico y del origen de sus especies vegetales; estudio histórico del jardín; estudio de los arquitectos\, jardineros y paisajistas que lo han diseñado y a los que se debe su estructura actual\, paseo contemplativo… \nIntentaremos\, en unas horas ver un poco de todo ello y\, como no podía ser de otra manera\, analizar su posición en el conjunto del Paseo del Prado y la importancia de la construcción de este paseo. \nPara finalizar\, haremos una pequeña visita al jardín vertical de Caixa Forum. \n> Visita guiada por Pilar Lacasta\, geógrafa de la Universidad Autónoma de Madrid y experta en jardines\, con numerosas publicaciones y estudios sobre el tema. \n 
URL:https://old.sge.org/evento/real-jardin-botanico-otono-pilar-lacasta/
CATEGORIES:Senderismo
ATTACH;FMTTYPE=image/jpeg:https://old.sge.org/wp-content/uploads/2017/10/rjb_otoño.jpg
END:VEVENT
END:VCALENDAR