BEGIN:VCALENDAR
VERSION:2.0
PRODID:-//Sociedad Geográfica Española - ECPv6.10.3//NONSGML v1.0//EN
CALSCALE:GREGORIAN
METHOD:PUBLISH
X-WR-CALNAME:Sociedad Geográfica Española
X-ORIGINAL-URL:https://old.sge.org
X-WR-CALDESC:Eventos para Sociedad Geográfica Española
REFRESH-INTERVAL;VALUE=DURATION:PT1H
X-Robots-Tag:noindex
X-PUBLISHED-TTL:PT1H

BEGIN:VEVENT
DTSTART;TZID=Europe/Madrid:20260425T231623
DTEND;TZID=Europe/Madrid:20240521T110100
DTSTAMP:20260425T231623
CREATED:20240222T144155Z
LAST-MODIFIED:20240521T110212Z
UID:33751-0-1716289260@old.sge.org
SUMMARY:ALASKA\, LA LLAMADA DE LA NATURALEZA
DESCRIPTION:Diversidad geográfica y conexión con la Naturaleza\, en los confines del mundo habitado de Norteamérica\nAlaska es una península singular\, ubicada entre los océanos Ártico y Pacífico y en el límite noroccidental de Norteamérica que ofrece paisajes extremos. \nEs una tierra de extensas montañas\, glaciares\, bosques y tundra donde el frío y el hielo son las constantes que dirigen los paisajes y condicionan la presencia humana. Aúna el Ártico con su naturaleza salvaje -fauna\, montañas glaciadas\, extensos valles\, turberas\, tundra y taiga- y el desarrollo humano en ciudades y asentamientos -mineros\, militares\, pesqueros- esparcidos por su territorio y que en ocasiones han dejado una profunda huella. \nDe sur a norte se pueden admirar paisajes costeros modelados por el hielo\, con fiordos\, montañas y frentes glaciares sobre el mar que nos llevan a las montañas continentales\, los grandes espacios con las cumbres más altas y donde de nuevo alternan bosques y praderas con unos glaciares que muestran los rastros de su reciente retroceso sin perder la belleza del ártico. Más al norte\, los grandes ríos y sus llanuras dominan el paisaje\, caracterizado por la presencia de amplios bosques y el permafrost. Son extensas masas de coníferas que colonizan los sustratos helados. \n  \n\n 
URL:https://old.sge.org/evento/alaska-la-llamada-de-la-naturaleza/
CATEGORIES:Viajes
ATTACH;FMTTYPE=image/jpeg:https://old.sge.org/wp-content/uploads/2024/02/barth-bailey-DeNUFD4XcNA-unsplash.jpg
ORGANIZER;CN="Sociedad Geogr%C3%A1fica Espa%C3%B1ola":MAILTO:sge@sge.org
END:VEVENT
BEGIN:VEVENT
DTSTART;TZID=Europe/Madrid:20171107T190000
DTEND;TZID=Europe/Madrid:20171107T210000
DTSTAMP:20260425T231623
CREATED:20171031T092755Z
LAST-MODIFIED:20171106T094416Z
UID:11591-1510081200-1510088400@old.sge.org
SUMMARY:Tertulia: últimos hallazgos arqueológicos en la selva de Perú\, con Diego Cortijo
DESCRIPTION:Diego Cortijo\, explorador vallisoletano y miembro de la Sociedad Geográfica Española\, lleva siete años explorando el corazón de la selva peruana y toda una vida buscando respuestas sobre los mitos de la antigüedad\, como la existencia de este mítico enclave. Después de numerosos esfuerzos y acompañado de la arqueóloga peruana Geanette Guzmán y de un grupo de nativos amarakaeri\, ha dado con los restos de un complejo arqueológico en la Reserva Comunal Amarakaeri\, en la frontera con Brasil y Bolivia en su más reciente expedición. Según la arqueóloga\, que ya ha hecho público el informe\, se trata de las ruinas de una plataforma en forma de pirámide truncada de uso ceremonial construida en la época pre-inca y reutilizada hasta el periodo inca. \nCortijo estará en la tertulia de la SGE en Madrid para contarnos los detalles de la exploración y las consecuencias del descubrimiento.
URL:https://old.sge.org/evento/tertulia-ultimos-hallazgos-arqueologicos-la-selva-peru-diego-cortijo/
LOCATION:Pangea The Travel Store\, Príncipe de Vergara 26\, Madrid\, España
CATEGORIES:Tertulias
ATTACH;FMTTYPE=image/jpeg:https://old.sge.org/wp-content/uploads/2017/09/equipo-diego-cortijo-scaled.jpg
END:VEVENT
END:VCALENDAR